BEGIN:VCALENDAR
VERSION:2.0
PRODID:-//Naturerhaltung und Heimatpflege Schöllbronn e.V. - ECPv6.15.17.1//NONSGML v1.0//EN
CALSCALE:GREGORIAN
METHOD:PUBLISH
X-ORIGINAL-URL:https://naturerhaltung.de
X-WR-CALDESC:Veranstaltungen für Naturerhaltung und Heimatpflege Schöllbronn e.V.
REFRESH-INTERVAL;VALUE=DURATION:PT1H
X-Robots-Tag:noindex
X-PUBLISHED-TTL:PT1H
BEGIN:VTIMEZONE
TZID:Europe/Berlin
BEGIN:DAYLIGHT
TZOFFSETFROM:+0100
TZOFFSETTO:+0200
TZNAME:CEST
DTSTART:20250330T010000
END:DAYLIGHT
BEGIN:STANDARD
TZOFFSETFROM:+0200
TZOFFSETTO:+0100
TZNAME:CET
DTSTART:20251026T010000
END:STANDARD
BEGIN:DAYLIGHT
TZOFFSETFROM:+0100
TZOFFSETTO:+0200
TZNAME:CEST
DTSTART:20260329T010000
END:DAYLIGHT
BEGIN:STANDARD
TZOFFSETFROM:+0200
TZOFFSETTO:+0100
TZNAME:CET
DTSTART:20261025T010000
END:STANDARD
BEGIN:DAYLIGHT
TZOFFSETFROM:+0100
TZOFFSETTO:+0200
TZNAME:CEST
DTSTART:20270328T010000
END:DAYLIGHT
BEGIN:STANDARD
TZOFFSETFROM:+0200
TZOFFSETTO:+0100
TZNAME:CET
DTSTART:20271031T010000
END:STANDARD
END:VTIMEZONE
BEGIN:VEVENT
DTSTART;TZID=Europe/Berlin:20260314T100000
DTEND;TZID=Europe/Berlin:20260314T120000
DTSTAMP:20260425T003123
CREATED:20260310T130200Z
LAST-MODIFIED:20260310T130703Z
UID:3473-1773482400-1773489600@naturerhaltung.de
SUMMARY:Müllsammelaktion an der Benjeshecke
DESCRIPTION:🌿 Gemeinsam für ein sauberes Schöllbronn: Müllsammelaktion 2026\nDer Verein Naturerhaltung und Heimatpflege Schöllbronn e.V. lädt alle Bürgerinnen und Bürger herzlich zur unserer Müllsammelaktion ein. Gemeinsam befreien wir unsere Natur von Unrat und setzen ein Zeichen für die Umwelt. \nAlle Details zum Einsatz\n\nWann? Samstag\, 14. März 2026\nBeginn: 10:00 Uhr\nTreffpunkt: Benjeshecke Schöllbronn\n\nWas ihr mitbringen solltet\nFür ein sicheres und effektives Sammeln bitten wir alle Helfer um: \n\n🥾 Festes Schuhwerk\n🧤 Arbeitshandschuhe\n\n\n🌦️ Wichtiger Hinweis zum Wetter\nSollte uns das Wetter einen Strich durch die Rechnung machen\, müssen wir die Aktion eventuell kurzfristig verschieben. Bitte schaut am Morgen der Aktion noch einmal hier auf der Internetseite vorbei\, um den aktuellen Status zu prüfen. \nFragen?\nHast du noch Fragen zur Aktion? Dann schreib uns einfach eine E-Mail an: \n📧 vorstand@naturerhaltung.de \nWir freuen uns über jede helfende Hand! \n 
URL:https://naturerhaltung.de/event/muellsammelaktion-03-2026/
LOCATION:Benjeshecke Schöllbronn\, Benjeshecke\, Benjeshecke Schöllbronn\, Germany
CATEGORIES:Arbeitseinsatz
ATTACH;FMTTYPE=image/jpeg:https://naturerhaltung.de/wp-content/uploads/2025/11/Benjeshecke_-20250815_103326_3070-scaled.jpg
END:VEVENT
END:VCALENDAR